BEGIN:VCALENDAR
VERSION:2.0
PRODID:-//Magrath Golf Club - ECPv6.15.20//NONSGML v1.0//EN
CALSCALE:GREGORIAN
METHOD:PUBLISH
X-WR-CALNAME:Magrath Golf Club
X-ORIGINAL-URL:https://magrathgolf.com
X-WR-CALDESC:Events for Magrath Golf Club
REFRESH-INTERVAL;VALUE=DURATION:PT1H
X-Robots-Tag:noindex
X-PUBLISHED-TTL:PT1H
BEGIN:VTIMEZONE
TZID:America/Edmonton
BEGIN:DAYLIGHT
TZOFFSETFROM:-0700
TZOFFSETTO:-0600
TZNAME:MDT
DTSTART:20240310T090000
END:DAYLIGHT
BEGIN:STANDARD
TZOFFSETFROM:-0600
TZOFFSETTO:-0700
TZNAME:MST
DTSTART:20241103T080000
END:STANDARD
BEGIN:DAYLIGHT
TZOFFSETFROM:-0700
TZOFFSETTO:-0600
TZNAME:MDT
DTSTART:20250309T090000
END:DAYLIGHT
BEGIN:STANDARD
TZOFFSETFROM:-0600
TZOFFSETTO:-0700
TZNAME:MST
DTSTART:20251102T080000
END:STANDARD
BEGIN:DAYLIGHT
TZOFFSETFROM:-0700
TZOFFSETTO:-0600
TZNAME:MDT
DTSTART:20260308T090000
END:DAYLIGHT
BEGIN:STANDARD
TZOFFSETFROM:-0600
TZOFFSETTO:-0700
TZNAME:MST
DTSTART:20261101T080000
END:STANDARD
END:VTIMEZONE
BEGIN:VEVENT
DTSTART;TZID=America/Edmonton:20250717T100000
DTEND;TZID=America/Edmonton:20250717T170000
DTSTAMP:20260420T104929
CREATED:20260326T225403Z
LAST-MODIFIED:20260326T225403Z
UID:10000548-1752746400-1752771600@magrathgolf.com
SUMMARY:Senior Men's Scramble
DESCRIPTION:Senior Men’s Scramble\n			July 17\n	  @\n10:00 am\n	  –\n5:00 pm \nA special day dedicated to our senior players—enjoy top-notch competition and great camaraderie. \n\nJuly 17 (Thursday): 10:00 AM Shotgun Start\nEntry Fee: $100 (Member)\, $125 (Non-Member)\nWith cart\n\n					\n									Register Now\n					 \nDetails\n			July 17\n	  @\n10:00 am\n	  –\n5:00 pm \n\n	Categories:\n		Men’s Tournament	 \n\n			\n		Magrath Golf Club			\n	\n\n	Address:\n\nMagrath Golf Club Township Rd 53A\n		\n		Magrath\,\n	Alberta\n	T0K 1J0\n	Canada\n\n\n	+ Google Map \n\n	Phone:\n\n					\n			403-758-3054
URL:https://magrathgolf.com/event/senior-mens-scramble-2/
LOCATION:Magrath Golf Club\, Magrath Golf Club Township Rd 53A\, Magrath\, Alberta\, T0K 1J0\, Canada
CATEGORIES:Men's Tournament
END:VEVENT
BEGIN:VEVENT
DTSTART;TZID=America/Edmonton:20250717T180000
DTEND;TZID=America/Edmonton:20250717T200000
DTSTAMP:20260420T104929
CREATED:20260326T225358Z
LAST-MODIFIED:20260326T225358Z
UID:10000624-1752775200-1752782400@magrathgolf.com
SUMMARY:Men's League
DESCRIPTION:
URL:https://magrathgolf.com/event/mens-league/2025-07-17/
LOCATION:Magrath Golf Club\, Magrath Golf Club Township Rd 53A\, Magrath\, Alberta\, T0K 1J0\, Canada
CATEGORIES:Men's League,Men's Tournament
END:VEVENT
BEGIN:VEVENT
DTSTART;TZID=America/Edmonton:20250718T130000
DTEND;TZID=America/Edmonton:20250718T200000
DTSTAMP:20260420T104929
CREATED:20260326T225403Z
LAST-MODIFIED:20260326T225403Z
UID:10000682-1752843600-1752868800@magrathgolf.com
SUMMARY:Black Velvet Corporate Tournament
DESCRIPTION:Private corporate event. \n1:00 PM\, afternoon shotgun start. \nMember/Guest shotgun taking place at 8:00 AM
URL:https://magrathgolf.com/event/black-velvet-corporate-tournament/
LOCATION:Magrath Golf Club\, Magrath Golf Club Township Rd 53A\, Magrath\, Alberta\, T0K 1J0\, Canada
CATEGORIES:Men's Tournament,Mixed Tournament,Women's Tournament
END:VEVENT
END:VCALENDAR